BEGIN:VCALENDAR
VERSION:2.0
PRODID:-//BfHD - ECPv6.15.20//NONSGML v1.0//EN
CALSCALE:GREGORIAN
METHOD:PUBLISH
X-ORIGINAL-URL:https://bfhd.de
X-WR-CALDESC:Veranstaltungen für BfHD
REFRESH-INTERVAL;VALUE=DURATION:PT1H
X-Robots-Tag:noindex
X-PUBLISHED-TTL:PT1H
BEGIN:VTIMEZONE
TZID:Europe/Berlin
BEGIN:DAYLIGHT
TZOFFSETFROM:+0100
TZOFFSETTO:+0200
TZNAME:CEST
DTSTART:20250330T010000
END:DAYLIGHT
BEGIN:STANDARD
TZOFFSETFROM:+0200
TZOFFSETTO:+0100
TZNAME:CET
DTSTART:20251026T010000
END:STANDARD
BEGIN:DAYLIGHT
TZOFFSETFROM:+0100
TZOFFSETTO:+0200
TZNAME:CEST
DTSTART:20260329T010000
END:DAYLIGHT
BEGIN:STANDARD
TZOFFSETFROM:+0200
TZOFFSETTO:+0100
TZNAME:CET
DTSTART:20261025T010000
END:STANDARD
BEGIN:DAYLIGHT
TZOFFSETFROM:+0100
TZOFFSETTO:+0200
TZNAME:CEST
DTSTART:20270328T010000
END:DAYLIGHT
BEGIN:STANDARD
TZOFFSETFROM:+0200
TZOFFSETTO:+0100
TZNAME:CET
DTSTART:20271031T010000
END:STANDARD
END:VTIMEZONE
BEGIN:VEVENT
DTSTART;TZID=Europe/Berlin:20261125T100000
DTEND;TZID=Europe/Berlin:20261125T160000
DTSTAMP:20260421T200828
CREATED:20221207T104408Z
LAST-MODIFIED:20260119T084809Z
UID:6919-1795600800-1795622400@bfhd.de
SUMMARY:Weiterführung eines QM Systems für freiberufliche Hebammen- ONLINE Seminar
DESCRIPTION:ONLINE FORTBILDUNG VIA ZOOM\n \nInhalt:  \nNach den ersten Erfahrungen mit dem eigenen Qualitätssystems werden wir gemeinsam nach weiteren QM-Anforderungen fragen und nach praxisrelevanten Lösungen suchen. \nDiese Fortbildung schließt mit einem internen Audit ab. \n  \nLeitung: Reinhild Bohlmann\, Hebamme\, int. Auditorin \nKosten: 120 € (80€ BfHD Mitglieder) \n  \nZertifiziert vom Bund freiberuflicher Hebammen Deutschlands BfHD e.V. \n  \nVerbindliche Anmeldung (MIT ANGABE VON POSTADRESSE\, SOWIE TELEFONNUMMER) bitte bis spätestens zwei Wochen vor Kursbeginn per Email unter: \nfortbildungsakademie@bfhd.de \n  \nFortbildungsakademie des BfHD (FAB) \nKasseler Straße 1a \n60486 Frankfurt \nTelefon: 069 / 7953 4971 \n 
URL:https://bfhd.de/fortbildung/weiterfuehrung-eines-qm-systems-fuer-freiberufliche-hebammen-online-seminar-2
CATEGORIES:FAB Fortbildungen
ATTACH;FMTTYPE=image/png:https://bfhd.de/wp-content/uploads/2025/06/Logo_Hellturkis.png
END:VEVENT
END:VCALENDAR