BEGIN:VCALENDAR
VERSION:2.0
PRODID:-//BfHD - ECPv6.15.20//NONSGML v1.0//EN
CALSCALE:GREGORIAN
METHOD:PUBLISH
X-ORIGINAL-URL:https://bfhd.de
X-WR-CALDESC:Veranstaltungen für BfHD
REFRESH-INTERVAL;VALUE=DURATION:PT1H
X-Robots-Tag:noindex
X-PUBLISHED-TTL:PT1H
BEGIN:VTIMEZONE
TZID:Europe/Berlin
BEGIN:DAYLIGHT
TZOFFSETFROM:+0100
TZOFFSETTO:+0200
TZNAME:CEST
DTSTART:20250330T010000
END:DAYLIGHT
BEGIN:STANDARD
TZOFFSETFROM:+0200
TZOFFSETTO:+0100
TZNAME:CET
DTSTART:20251026T010000
END:STANDARD
BEGIN:DAYLIGHT
TZOFFSETFROM:+0100
TZOFFSETTO:+0200
TZNAME:CEST
DTSTART:20260329T010000
END:DAYLIGHT
BEGIN:STANDARD
TZOFFSETFROM:+0200
TZOFFSETTO:+0100
TZNAME:CET
DTSTART:20261025T010000
END:STANDARD
BEGIN:DAYLIGHT
TZOFFSETFROM:+0100
TZOFFSETTO:+0200
TZNAME:CEST
DTSTART:20270328T010000
END:DAYLIGHT
BEGIN:STANDARD
TZOFFSETFROM:+0200
TZOFFSETTO:+0100
TZNAME:CET
DTSTART:20271031T010000
END:STANDARD
END:VTIMEZONE
BEGIN:VEVENT
DTSTART;TZID=Europe/Berlin:20260707T074500
DTEND;TZID=Europe/Berlin:20260707T091500
DTSTAMP:20260419T215927
CREATED:20260202T090947Z
LAST-MODIFIED:20260202T090947Z
UID:33676-1783410300-1783415700@bfhd.de
SUMMARY:ONLINE Qualitätszirkel für Hausgeburtshebammen
DESCRIPTION:7.45- 9.15 Uhr ONLINE via ZOOM \n  \nJeden ersten Dienstag im Monat findet unser fachlicher Austausch über die wichtigsten Themen in der Hausgeburtshilfe statt und wird mit zwei Fortbildungsstunden angerechnet. \n  \nKosten: 20\,00 € (10\,00 € für BfHD Mitglieder) \n  \nAnmeldung und Zugangsdaten über: \n fortbildungsakademie@bfhd.de \n  \n  \n  \n 
URL:https://bfhd.de/fortbildung/online-qualitaetszirkel-fuer-hausgeburtshebammen-6
CATEGORIES:FAB Fortbildungen
ATTACH;FMTTYPE=image/jpeg:https://bfhd.de/wp-content/uploads/2024/07/fab_logo-1.jpg
END:VEVENT
END:VCALENDAR