BEGIN:VCALENDAR
VERSION:2.0
PRODID:-//BfHD - ECPv6.15.20//NONSGML v1.0//EN
CALSCALE:GREGORIAN
METHOD:PUBLISH
X-ORIGINAL-URL:https://bfhd.de
X-WR-CALDESC:Veranstaltungen für BfHD
REFRESH-INTERVAL;VALUE=DURATION:PT1H
X-Robots-Tag:noindex
X-PUBLISHED-TTL:PT1H
BEGIN:VTIMEZONE
TZID:Europe/Berlin
BEGIN:DAYLIGHT
TZOFFSETFROM:+0100
TZOFFSETTO:+0200
TZNAME:CEST
DTSTART:20240331T010000
END:DAYLIGHT
BEGIN:STANDARD
TZOFFSETFROM:+0200
TZOFFSETTO:+0100
TZNAME:CET
DTSTART:20241027T010000
END:STANDARD
BEGIN:DAYLIGHT
TZOFFSETFROM:+0100
TZOFFSETTO:+0200
TZNAME:CEST
DTSTART:20250330T010000
END:DAYLIGHT
BEGIN:STANDARD
TZOFFSETFROM:+0200
TZOFFSETTO:+0100
TZNAME:CET
DTSTART:20251026T010000
END:STANDARD
BEGIN:DAYLIGHT
TZOFFSETFROM:+0100
TZOFFSETTO:+0200
TZNAME:CEST
DTSTART:20260329T010000
END:DAYLIGHT
BEGIN:STANDARD
TZOFFSETFROM:+0200
TZOFFSETTO:+0100
TZNAME:CET
DTSTART:20261025T010000
END:STANDARD
END:VTIMEZONE
BEGIN:VEVENT
DTSTART;TZID=Europe/Berlin:20251028T100000
DTEND;TZID=Europe/Berlin:20251028T130000
DTSTAMP:20260425T143303
CREATED:20240617T120421Z
LAST-MODIFIED:20250820T102945Z
UID:32283-1761645600-1761656400@bfhd.de
SUMMARY:Online Feedback einfach einholen
DESCRIPTION:online Fortbildung via ZOOM \nInhalt: \nFeedback ist wichtig- Regelmäßige Rückmeldung zu Leistung\, Verhalten und Fremdwahrnehmung werden als ganz selbstverständlichund erstrebenswert in der Hebammenarbeit angesehen und gehört in unser Qualitätssystem. \nWir lernen einen QR Code zu erstellen\, um einfach und unaufwändig ein Feedback einzuholen. \n  \nLeitung: Winona Yaman\, Hebamme \nKosten: 40\,00 EUR (30\,00 EUR für BfHD Mitglieder) \n  \nZertifiziert vom Bund freiberuflicher Hebammen Deutschlands BfHD e.V. \n  \nVerbindliche Anmeldung (BITTE UNTER ANGABE EINER POSTADRESSE\, SOWIE EINER TELEFONNUMMER) \nbis spätestens zwei Wochen vor Kursbeginn unter folgender Email: \nfortbildungsakademie@bfhd.de \n  \nFortbildungsakademie des BfHD (FAB) \nKasseler Straße 1a \n60486 Frankfurt \nTelefon: 069 / 7953 4971
URL:https://bfhd.de/fortbildung/online-feedback-einfach-einholen
CATEGORIES:FAB Fortbildungen
ATTACH;FMTTYPE=image/png:https://bfhd.de/wp-content/uploads/2025/06/Logo_Hellturkis.png
END:VEVENT
END:VCALENDAR