BEGIN:VCALENDAR
VERSION:2.0
PRODID:-//BfHD - ECPv6.15.20//NONSGML v1.0//EN
CALSCALE:GREGORIAN
METHOD:PUBLISH
X-WR-CALNAME:BfHD
X-ORIGINAL-URL:https://bfhd.de
X-WR-CALDESC:Veranstaltungen für BfHD
REFRESH-INTERVAL;VALUE=DURATION:PT1H
X-Robots-Tag:noindex
X-PUBLISHED-TTL:PT1H
BEGIN:VTIMEZONE
TZID:Europe/Berlin
BEGIN:DAYLIGHT
TZOFFSETFROM:+0100
TZOFFSETTO:+0200
TZNAME:CEST
DTSTART:20250330T010000
END:DAYLIGHT
BEGIN:STANDARD
TZOFFSETFROM:+0200
TZOFFSETTO:+0100
TZNAME:CET
DTSTART:20251026T010000
END:STANDARD
BEGIN:DAYLIGHT
TZOFFSETFROM:+0100
TZOFFSETTO:+0200
TZNAME:CEST
DTSTART:20260329T010000
END:DAYLIGHT
BEGIN:STANDARD
TZOFFSETFROM:+0200
TZOFFSETTO:+0100
TZNAME:CET
DTSTART:20261025T010000
END:STANDARD
BEGIN:DAYLIGHT
TZOFFSETFROM:+0100
TZOFFSETTO:+0200
TZNAME:CEST
DTSTART:20270328T010000
END:DAYLIGHT
BEGIN:STANDARD
TZOFFSETFROM:+0200
TZOFFSETTO:+0100
TZNAME:CET
DTSTART:20271031T010000
END:STANDARD
END:VTIMEZONE
BEGIN:VEVENT
DTSTART;TZID=Europe/Berlin:20260519T100000
DTEND;TZID=Europe/Berlin:20260519T160000
DTSTAMP:20260421T103126
CREATED:20250910T102902Z
LAST-MODIFIED:20260202T093817Z
UID:33376-1779184800-1779206400@bfhd.de
SUMMARY:Fortbildungsangebot des NWGH: Vom Kopf auf die Füße – Wie gründe ich (m)ein Geburtshaus? ONLINE
DESCRIPTION:Online-Basismodul – allgemeine Grundlagen \nMontag\, 19.05.2026\, 10:00 – 16:00 \nInhalt: \n\nKonzepte und Modelle für Geburtshäuser/Hebammengeleitete Einrichtungen\nGesetzliche Grundlagen\, Ergänzungsvertrag\, Rahmen- und Standortbedingungen\, personelle\, sächliche und strukturelle Voraussetzungen\nArbeitsweise und Arbeitsorganisation von Hebammen in Geburtshäusern\, Zusammenarbeit von Geburtshaus-Träger und Hebammen\, Teammodelle\nWirtschaftlicher Erfolg\, Ertrags- und Erfolgsplanung für das Geburtshaus und die Hebamme\nBusiness- und Gründungsplan\, notwendige Entscheidungen und erste Schritte\n\n  \nWir stellen umfangreiches Informationsmaterial zur Verfügung. \n  \n5\,33 Fortbildungseinheiten gemäß HBO NRW am 26.09.2022 durch das Gesundheitsamt Bonn im Bereich Fach- und Methodenkompetenz genehmigt. \n \nReferentinnen:\nSusanne Braun\nHebamme\, frühere langjährige Geschäftsführerin im Geburtshaus München\, Vorstand im Netzwerk der Geburtshäuser e.V. \nElke Dickmann-Löffler \nDipl.-Ing.ökonomin\, Dipl.-Soz.pädagogin\, Organisations- und Gründungsberaterin\,\nfrühere Geschäftsführerin im Geburtshaus Bonn    \n  \nTicket-A – 130\,00 € \nFür Mitglieder des Netzwerks der Geburtshäuser und in Mitgliedshäusern tätige Personen \n  \nTicket-A – 155\,00 € \nFür Nicht-Mitglieder des Netzwerks der Geburtshäuser \n  \nAnmeldung unter: \nhttps://www.netzwerk-geburtshaeuser.de/veranstaltungen/online-vom-kopf-auf-die-fuesse-wie-gruende-ich-ein-geburtshaus-basis-modul-2/ \n 
URL:https://bfhd.de/fortbildung/fortbildungsangebot-des-nwgh-vom-kopf-auf-die-fuesse-wie-gruende-ich-mein-geburtshaus-online
CATEGORIES:weitere Fortbildungen
ATTACH;FMTTYPE=image/png:https://bfhd.de/wp-content/uploads/2023/07/NWGH.png
END:VEVENT
END:VCALENDAR