BEGIN:VCALENDAR
VERSION:2.0
PRODID:-//BfHD - ECPv6.15.20//NONSGML v1.0//EN
CALSCALE:GREGORIAN
METHOD:PUBLISH
X-ORIGINAL-URL:https://bfhd.de
X-WR-CALDESC:Veranstaltungen für BfHD
REFRESH-INTERVAL;VALUE=DURATION:PT1H
X-Robots-Tag:noindex
X-PUBLISHED-TTL:PT1H
BEGIN:VTIMEZONE
TZID:Europe/Berlin
BEGIN:DAYLIGHT
TZOFFSETFROM:+0100
TZOFFSETTO:+0200
TZNAME:CEST
DTSTART:20250330T010000
END:DAYLIGHT
BEGIN:STANDARD
TZOFFSETFROM:+0200
TZOFFSETTO:+0100
TZNAME:CET
DTSTART:20251026T010000
END:STANDARD
BEGIN:DAYLIGHT
TZOFFSETFROM:+0100
TZOFFSETTO:+0200
TZNAME:CEST
DTSTART:20260329T010000
END:DAYLIGHT
BEGIN:STANDARD
TZOFFSETFROM:+0200
TZOFFSETTO:+0100
TZNAME:CET
DTSTART:20261025T010000
END:STANDARD
BEGIN:DAYLIGHT
TZOFFSETFROM:+0100
TZOFFSETTO:+0200
TZNAME:CEST
DTSTART:20270328T010000
END:DAYLIGHT
BEGIN:STANDARD
TZOFFSETFROM:+0200
TZOFFSETTO:+0100
TZNAME:CET
DTSTART:20271031T010000
END:STANDARD
END:VTIMEZONE
BEGIN:VEVENT
DTSTART;TZID=Europe/Berlin:20260126T090000
DTEND;TZID=Europe/Berlin:20260126T130000
DTSTAMP:20260421T133020
CREATED:20250401T103132Z
LAST-MODIFIED:20250910T113900Z
UID:32974-1769418000-1769432400@bfhd.de
SUMMARY:Fortbildungsangebot der B.F.G.: ABC der Notfälle in der Geburtshilfe- ONLINE
DESCRIPTION:Es gibt nicht viele\, wenn dann aber mitunter schwerwiegende Notfälle in der Geburtshilfe: Blutungen\, Plazentalösung\, Schulterdystokie\, Eklampsie\, Asphyxie\, Psyche. \nDa helfen strukturierte\, geübte\, gut kommunizierte Abläufe – mitunter muss improvisiert werden. In dem Kurz-Update wird über Mentalisierung bewirkt\, dass die ersten Schritte jeden Notfalls immer und kontextunabhängig abrufbar sind. \nDarüber hinaus wird auf Ängste\, Teamkommunikation\, Fallstricke und Fehlerkultur fokussiert. \n\n\nReferent/Referentin\nDr. Wolf Lütje\n\n\n\nAnerkennung\nFür die Fortbildungsveranstaltung erkennen wir 5 Fortbildungsstunden im Bereich des Notfallmanagements im Sinne der Hebammenberufsordnung NRW an. Und vom ÖHG wird die Veranstaltung lt.§37 mit 11 Fortbildungspunkten anerkannt und hat die FB Nummer 24-023E.\n\n\n\n\nKostenbeitrag\n€ 130\,00 // 50% für Studierende\n\n\n\nWeitere Infos und Anmeldung unter:\nhttps://www.bfg-kray.de/online-seminar/abc-der-notfaelle-der-geburtshilfe
URL:https://bfhd.de/fortbildung/fortbildungsangebot-der-b-f-g-abc-der-notfaelle-in-der-geburtshilfe
CATEGORIES:weitere Fortbildungen
ATTACH;FMTTYPE=image/png:https://bfhd.de/wp-content/uploads/2024/05/bfg-logo-1.png
END:VEVENT
END:VCALENDAR