BEGIN:VCALENDAR
VERSION:2.0
PRODID:-//BfHD - ECPv6.15.20//NONSGML v1.0//EN
CALSCALE:GREGORIAN
METHOD:PUBLISH
X-WR-CALNAME:BfHD
X-ORIGINAL-URL:https://bfhd.de
X-WR-CALDESC:Veranstaltungen für BfHD
REFRESH-INTERVAL;VALUE=DURATION:PT1H
X-Robots-Tag:noindex
X-PUBLISHED-TTL:PT1H
BEGIN:VTIMEZONE
TZID:Europe/Berlin
BEGIN:DAYLIGHT
TZOFFSETFROM:+0100
TZOFFSETTO:+0200
TZNAME:CEST
DTSTART:20250330T010000
END:DAYLIGHT
BEGIN:STANDARD
TZOFFSETFROM:+0200
TZOFFSETTO:+0100
TZNAME:CET
DTSTART:20251026T010000
END:STANDARD
BEGIN:DAYLIGHT
TZOFFSETFROM:+0100
TZOFFSETTO:+0200
TZNAME:CEST
DTSTART:20260329T010000
END:DAYLIGHT
BEGIN:STANDARD
TZOFFSETFROM:+0200
TZOFFSETTO:+0100
TZNAME:CET
DTSTART:20261025T010000
END:STANDARD
BEGIN:DAYLIGHT
TZOFFSETFROM:+0100
TZOFFSETTO:+0200
TZNAME:CEST
DTSTART:20270328T010000
END:DAYLIGHT
BEGIN:STANDARD
TZOFFSETFROM:+0200
TZOFFSETTO:+0100
TZNAME:CET
DTSTART:20271031T010000
END:STANDARD
END:VTIMEZONE
BEGIN:VEVENT
DTSTART;TZID=Europe/Berlin:20260925T100000
DTEND;TZID=Europe/Berlin:20260925T160000
DTSTAMP:20260421T202821
CREATED:20260112T115849Z
LAST-MODIFIED:20260114T095542Z
UID:33634-1790330400-1790352000@bfhd.de
SUMMARY:Low Level Lasertherapie- ONLINE SEMINAR
DESCRIPTION:Inhalt: online Ausbildung zur Laserschutzbeauftragten bis zur Laser Klasse 3.B am Beispiel eines Heltschl- Low- Level- Lasers. \nAnwendungsmöglichkeiten in der Zeit der Schwangerschaft\, Geburt und Wochenbett. Wir lernen die Effekte der Low-Level-Lasertherapie kennen (Schmerzlinderung\, Durchblutungsförderung\, Entzündungshemmung\, Beschleunigung der Wundheilung\, Verminderung des Infektionsrisikos\, Verminderung von Schwellungen). Wir gehen der Frage nach: Was ist Laser? Wie wirkt die Softlaser – Therapie? Behandlungsablauf. \nLeitung: Andreas Heltschl\, Ingenieur und Reinhild Bohlmann\, Hebamme \nKosten: 130\,00 Euro pro Person (für BfHD-Mitglieder 80\,00 Euro) \n  \nZertifiziert vom Bund freiberuflicher Hebammen Deutschlands BfHD e.V. \n  \nVerbindliche Anmeldung (BITTE MIT ANGABE VON POSTADRESSE\, SOWIE TELEFONNUMMER) bis spätestens zwei Wochen vor Kursbeginn unter: E-Mail: \nfortbildungsakademie@bfhd.de \n  \nFortbildungsakademie des BfHD (FAB) \nKasseler Straße 1a \n60486 Frankfurt \nTelefon: 069 / 7953 4971
URL:https://bfhd.de/fortbildung/low-level-lasertherapie-online-seminar
CATEGORIES:FAB Fortbildungen
ATTACH;FMTTYPE=image/png:https://bfhd.de/wp-content/uploads/2025/06/Logo_Hellturkis.png
END:VEVENT
END:VCALENDAR