BEGIN:VCALENDAR
VERSION:2.0
PRODID:-//BfHD - ECPv6.15.20//NONSGML v1.0//EN
CALSCALE:GREGORIAN
METHOD:PUBLISH
X-WR-CALNAME:BfHD
X-ORIGINAL-URL:https://bfhd.de
X-WR-CALDESC:Veranstaltungen für BfHD
REFRESH-INTERVAL;VALUE=DURATION:PT1H
X-Robots-Tag:noindex
X-PUBLISHED-TTL:PT1H
BEGIN:VTIMEZONE
TZID:Europe/Berlin
BEGIN:DAYLIGHT
TZOFFSETFROM:+0100
TZOFFSETTO:+0200
TZNAME:CEST
DTSTART:20250330T010000
END:DAYLIGHT
BEGIN:STANDARD
TZOFFSETFROM:+0200
TZOFFSETTO:+0100
TZNAME:CET
DTSTART:20251026T010000
END:STANDARD
BEGIN:DAYLIGHT
TZOFFSETFROM:+0100
TZOFFSETTO:+0200
TZNAME:CEST
DTSTART:20260329T010000
END:DAYLIGHT
BEGIN:STANDARD
TZOFFSETFROM:+0200
TZOFFSETTO:+0100
TZNAME:CET
DTSTART:20261025T010000
END:STANDARD
BEGIN:DAYLIGHT
TZOFFSETFROM:+0100
TZOFFSETTO:+0200
TZNAME:CEST
DTSTART:20270328T010000
END:DAYLIGHT
BEGIN:STANDARD
TZOFFSETFROM:+0200
TZOFFSETTO:+0100
TZNAME:CET
DTSTART:20271031T010000
END:STANDARD
END:VTIMEZONE
BEGIN:VEVENT
DTSTART;TZID=Europe/Berlin:20260429T180000
DTEND;TZID=Europe/Berlin:20260429T200000
DTSTAMP:20260422T133900
CREATED:20260212T132007Z
LAST-MODIFIED:20260212T132007Z
UID:33745-1777485600-1777492800@bfhd.de
SUMMARY:Moderne Monatshygiene in Schwangerschaft\, Wochenbett und Stillzeit
DESCRIPTION:Online-Fortbildung für Hebammen \nBlut. Wochenfluss. Stillzeit. \nDarüber wird geflüstert – wir reden drüber. Laut. Fachlich. Mit Herz. Und mit Raum für Austausch. \nüber Monatshygiene\, Wochenbetteinlagen & Stilleinlagen – früher\, heute und vor allem: wie es Frauen wirklich gut tut. \n  \nWir schauen hin: \n🩸 Was haben Frauen früher genutzt – und warum? \n🩸 Was steckt eigentlich in konventionellen Einwegprodukten? \n🩸 Was braucht der Körper im Wochenbett wirklich? \n🩸 Wie funktionieren Stoffbinden\, Periodenslips & Menstruationsschwämmchen? \n🩸 Und wie berate ich Frauen ehrlich\, undogmatisch & kompetent? \n  \nFür alle Hebammen\, die \n💛 Körper ernst nehmen \n💛 Blut nicht eklig finden \n💛 Frauen stärken statt belehren \n💛 und Lust auf echtes Wissen haben \n  \nLeitung: Stefanie Wagner \nKosten: 10\,00 € pro Person (für BfHD-Mitglieder frei). \n\n  \nVerbindliche Anmeldung (ANGABE VON POSTADRESSE\, SOWIE TELEFONNUMMER) bis spätestens zwei Wochen vor Kursbeginn bei: Fortbildungsakademie des BfHD (FAB)\, Kasseler Straße 1a\, 60486 Frankfurt\, Telefon: 069 / 7953 4971\, Email: fortbildungsakademie@bfhd.de \n\n  \n  \n  \n  \n  \n 
URL:https://bfhd.de/fortbildung/moderne-monatshygiene-in-schwangerschaft-wochenbett-und-stillzeit
CATEGORIES:FAB Fortbildungen
ATTACH;FMTTYPE=image/png:https://bfhd.de/wp-content/uploads/2025/06/Logo_Hellturkis.png
END:VEVENT
END:VCALENDAR