BEGIN:VCALENDAR
VERSION:2.0
PRODID:-//BfHD - ECPv6.15.20//NONSGML v1.0//EN
CALSCALE:GREGORIAN
METHOD:PUBLISH
X-WR-CALNAME:BfHD
X-ORIGINAL-URL:https://bfhd.de
X-WR-CALDESC:Veranstaltungen für BfHD
REFRESH-INTERVAL;VALUE=DURATION:PT1H
X-Robots-Tag:noindex
X-PUBLISHED-TTL:PT1H
BEGIN:VTIMEZONE
TZID:Europe/Berlin
BEGIN:DAYLIGHT
TZOFFSETFROM:+0100
TZOFFSETTO:+0200
TZNAME:CEST
DTSTART:20250330T010000
END:DAYLIGHT
BEGIN:STANDARD
TZOFFSETFROM:+0200
TZOFFSETTO:+0100
TZNAME:CET
DTSTART:20251026T010000
END:STANDARD
BEGIN:DAYLIGHT
TZOFFSETFROM:+0100
TZOFFSETTO:+0200
TZNAME:CEST
DTSTART:20260329T010000
END:DAYLIGHT
BEGIN:STANDARD
TZOFFSETFROM:+0200
TZOFFSETTO:+0100
TZNAME:CET
DTSTART:20261025T010000
END:STANDARD
BEGIN:DAYLIGHT
TZOFFSETFROM:+0100
TZOFFSETTO:+0200
TZNAME:CEST
DTSTART:20270328T010000
END:DAYLIGHT
BEGIN:STANDARD
TZOFFSETFROM:+0200
TZOFFSETTO:+0100
TZNAME:CET
DTSTART:20271031T010000
END:STANDARD
END:VTIMEZONE
BEGIN:VEVENT
DTSTART;TZID=Europe/Berlin:20260319T090000
DTEND;TZID=Europe/Berlin:20260319T120000
DTSTAMP:20260420T150519
CREATED:20250821T102928Z
LAST-MODIFIED:20251218T134749Z
UID:33324-1773910800-1773921600@bfhd.de
SUMMARY:Low risk – more fun – Risikomanagement & Hygiene für Praktiker- online Fortbildung
DESCRIPTION:Seminarbeschreibung: \nSicherheit beginnt mit Bewusstsein – und mit dem Wissen\, wie Risiken im Berufsalltag erkannt\, vermieden oder reduziert werden können. Ein wirksames Risikomanagement muss nicht kompliziert sein\, aber es muss zur Realität vor Ort passen. \nIn diesem praxisnahen Seminar beschäftigen wir uns mit den Fragen:\nWas sind echte Risiken in unserem beruflichen Alltag? \nWie erkennen wir sie rechtzeitig? \nWas liegt in unserer Hand – und wie können wir uns auf Situationen vorbereiten\, \ndie wir nicht vollständig kontrollieren können? \nEin weiterer Schwerpunkt liegt auf dem Thema Hygiene: \nWelche aktuellen Richtlinien sind relevant? Wo gibt es Auffrischungsbedarf? \nUnd wie lassen sich Hygienestandards im Alltag sinnvoll und umsetzbar integrieren\, \num Risiken effektiv zu minimieren? \n  \nInhalte: \n\nGrundlagen des Risikomanagements: einfach\, verständlich und praxisnah\nRisikobewusstsein schärfen: individuelle und berufsbezogene Risiken erkennen\nStrategien zur Vermeidung\, Reduktion und Absicherung von Risiken\nUmgang mit unvermeidbaren Risiken: vorbereitet statt überrascht\nHygiene als Prävention: aktuelle Standards\, häufige Stolperfallen\, praxisnahe Umsetzung\nReflexion eigener Routinen und Entwicklung alltagstauglicher Lösungen\n\n  \nZiele des Seminars: \n\nSicherheit im Umgang mit Risiken und Hygienemaßnahmen stärken\nPraktische Werkzeuge für den Arbeitsalltag erarbeiten\nHygienestandards auffrischen und sicher anwenden\nRisikokompetenz ausbauen – für sich selbst\, das Team und die betreuten Personen\n\n  \nKosten: 80\,00€ \n  \nDozentin: Heidemarie Kästle\, BBA social\, Fachlehrerin für Pflegeberufe\, Auditorin\, Hygienebeauftragte \n  \nAnmeldung über: info@heidemarie-kaestle.de
URL:https://bfhd.de/fortbildung/low-risk-more-fun-risikomanagement-hygiene-fuer-praktiker
CATEGORIES:weitere Fortbildungen
ATTACH;FMTTYPE=image/jpeg:https://bfhd.de/wp-content/uploads/2025/08/heidemarie-kaestle.jpg
END:VEVENT
END:VCALENDAR