BEGIN:VCALENDAR
VERSION:2.0
PRODID:-//BfHD - ECPv6.15.20//NONSGML v1.0//EN
CALSCALE:GREGORIAN
METHOD:PUBLISH
X-WR-CALNAME:BfHD
X-ORIGINAL-URL:https://bfhd.de
X-WR-CALDESC:Veranstaltungen für BfHD
REFRESH-INTERVAL;VALUE=DURATION:PT1H
X-Robots-Tag:noindex
X-PUBLISHED-TTL:PT1H
BEGIN:VTIMEZONE
TZID:Europe/Berlin
BEGIN:DAYLIGHT
TZOFFSETFROM:+0100
TZOFFSETTO:+0200
TZNAME:CEST
DTSTART:20250330T010000
END:DAYLIGHT
BEGIN:STANDARD
TZOFFSETFROM:+0200
TZOFFSETTO:+0100
TZNAME:CET
DTSTART:20251026T010000
END:STANDARD
BEGIN:DAYLIGHT
TZOFFSETFROM:+0100
TZOFFSETTO:+0200
TZNAME:CEST
DTSTART:20260329T010000
END:DAYLIGHT
BEGIN:STANDARD
TZOFFSETFROM:+0200
TZOFFSETTO:+0100
TZNAME:CET
DTSTART:20261025T010000
END:STANDARD
BEGIN:DAYLIGHT
TZOFFSETFROM:+0100
TZOFFSETTO:+0200
TZNAME:CEST
DTSTART:20270328T010000
END:DAYLIGHT
BEGIN:STANDARD
TZOFFSETFROM:+0200
TZOFFSETTO:+0100
TZNAME:CET
DTSTART:20271031T010000
END:STANDARD
END:VTIMEZONE
BEGIN:VEVENT
DTSTART;TZID=Europe/Berlin:20260310T103000
DTEND;TZID=Europe/Berlin:20260310T163000
DTSTAMP:20260425T130059
CREATED:20250204T132818Z
LAST-MODIFIED:20260119T082456Z
UID:32827-1773138600-1773160200@bfhd.de
SUMMARY:Begleitung von Schwangerschaftsbeschwerden durch die Hebamme
DESCRIPTION:Inhalt: \nMaßnahmen zusätzlich  zur ärztlichen Risiko- Sprechstunde:\nBeschwerden frühzeitig erkennen\, behandeln und einem möglichen Risiko entgegenwirken. \n  \nLeitung: Reinhild Bohlmann\, Hebamme \nKosten: 120\,00 € ( BfHD- Mitglieder 90\,00 €) \n  \nZertifiziert vom Bund freiberuflicher Hebammen Deutschlands BfHD e.V. \n  \nVerbindliche Anmeldung (MIT ANGABE VON POSTADRESSE\, SOWIE TELEFONNUMMER) bitte bis spätestens zwei Wochen vor Kursbeginn per Email unter: \nfortbildungsakademie@bfhd.de \n  \nFortbildungsakademie des BfHD (FAB) \nKasseler Straße 1a \n60486 Frankfurt \nTelefon: 069 / 7953 4971
URL:https://bfhd.de/fortbildung/begleitung-von-schwangerschaftsbeschwerden-durch-die-hebamme-2
LOCATION:38154 Bornum\, Am Dorfe 6a\, Bornum am Elm\, Niedersachsen\, 38154\, Deutschland
CATEGORIES:FAB Fortbildungen
ATTACH;FMTTYPE=image/png:https://bfhd.de/wp-content/uploads/2025/06/Logo_Hellturkis.png
END:VEVENT
END:VCALENDAR