BEGIN:VCALENDAR
VERSION:2.0
PRODID:-//BfHD - ECPv6.15.20//NONSGML v1.0//EN
CALSCALE:GREGORIAN
METHOD:PUBLISH
X-ORIGINAL-URL:https://bfhd.de
X-WR-CALDESC:Veranstaltungen für BfHD
REFRESH-INTERVAL;VALUE=DURATION:PT1H
X-Robots-Tag:noindex
X-PUBLISHED-TTL:PT1H
BEGIN:VTIMEZONE
TZID:Europe/Berlin
BEGIN:DAYLIGHT
TZOFFSETFROM:+0100
TZOFFSETTO:+0200
TZNAME:CEST
DTSTART:20220327T010000
END:DAYLIGHT
BEGIN:STANDARD
TZOFFSETFROM:+0200
TZOFFSETTO:+0100
TZNAME:CET
DTSTART:20221030T010000
END:STANDARD
BEGIN:DAYLIGHT
TZOFFSETFROM:+0100
TZOFFSETTO:+0200
TZNAME:CEST
DTSTART:20230326T010000
END:DAYLIGHT
BEGIN:STANDARD
TZOFFSETFROM:+0200
TZOFFSETTO:+0100
TZNAME:CET
DTSTART:20231029T010000
END:STANDARD
BEGIN:DAYLIGHT
TZOFFSETFROM:+0100
TZOFFSETTO:+0200
TZNAME:CEST
DTSTART:20240331T010000
END:DAYLIGHT
BEGIN:STANDARD
TZOFFSETFROM:+0200
TZOFFSETTO:+0100
TZNAME:CET
DTSTART:20241027T010000
END:STANDARD
END:VTIMEZONE
BEGIN:VEVENT
DTSTART;TZID=Europe/Berlin:20230424T090000
DTEND;TZID=Europe/Berlin:20230424T163000
DTSTAMP:20260422T215410
CREATED:20230116T114703Z
LAST-MODIFIED:20230116T114703Z
UID:7056-1682326800-1682353800@bfhd.de
SUMMARY:Beileid statt Glückwunsch- Fortbildung für Hebammen
DESCRIPTION:Inhalt: \nDer frühe Tod des Kindes in der Schwangerschaft oder ersten Lebenswochen bedeutet für Eltern und Hebammen einen emotionalen Spagat. Der Tod ist statt des neuen Lebens in die Familien getreten. Jede Familiensituation ist anders und die unterschiedlichen Ursachen für das Geschehene werfen eine Vielfalt von medizinischen und emotionalen Fragen auf. \nWie kann die Trauer zum heilsamen Weg werden? \nWie können Hebammen die Eltern darin begleiten? \nWo sind unsere Möglichkeiten und Grenzen in der Begleitung trauernder Menschen? \n(gerne extra Flyer anfordern!) \n  \nLeitung: Elke Heinen\, Trauerbegleiterin \nKosten: 140\,00 EUR ( BfHD Mitglieder 100\,00 EUR) \n  \nZertifiziert vom Bund freiberuflicher Hebammen Deutschlands BfHD e.V. \n  \nVerbindliche Anmeldung (BITTE MIT ANGABE EINER POSTADRESSE\, SOWIE EINER TELEFONNUMMER) bitte bis spätestens zwei Wochen vor Kursbeginn unter: \nEmail: fortbildungsakademie@bfhd.de \n  \nFortbildungsakademie des BfHD (FAB) \nKasseler Straße 1a \n60486 Frankfurt \nTelefon: 069 / 7953 4971 \n 
URL:https://bfhd.de/fortbildung/beileid-statt-glueckwunsch-fortbildung-fuer-hebammen
LOCATION:Kulturzentrum Pavillon\, Lister Meile 4\, Hannover\, 30161\, Deutschland
CATEGORIES:FAB Fortbildungen
END:VEVENT
END:VCALENDAR