BEGIN:VCALENDAR
VERSION:2.0
PRODID:-//BfHD - ECPv6.15.20//NONSGML v1.0//EN
CALSCALE:GREGORIAN
METHOD:PUBLISH
X-WR-CALNAME:BfHD
X-ORIGINAL-URL:https://bfhd.de
X-WR-CALDESC:Veranstaltungen für BfHD
REFRESH-INTERVAL;VALUE=DURATION:PT1H
X-Robots-Tag:noindex
X-PUBLISHED-TTL:PT1H
BEGIN:VTIMEZONE
TZID:Europe/Berlin
BEGIN:DAYLIGHT
TZOFFSETFROM:+0100
TZOFFSETTO:+0200
TZNAME:CEST
DTSTART:20250330T010000
END:DAYLIGHT
BEGIN:STANDARD
TZOFFSETFROM:+0200
TZOFFSETTO:+0100
TZNAME:CET
DTSTART:20251026T010000
END:STANDARD
BEGIN:DAYLIGHT
TZOFFSETFROM:+0100
TZOFFSETTO:+0200
TZNAME:CEST
DTSTART:20260329T010000
END:DAYLIGHT
BEGIN:STANDARD
TZOFFSETFROM:+0200
TZOFFSETTO:+0100
TZNAME:CET
DTSTART:20261025T010000
END:STANDARD
BEGIN:DAYLIGHT
TZOFFSETFROM:+0100
TZOFFSETTO:+0200
TZNAME:CEST
DTSTART:20270328T010000
END:DAYLIGHT
BEGIN:STANDARD
TZOFFSETFROM:+0200
TZOFFSETTO:+0100
TZNAME:CET
DTSTART:20271031T010000
END:STANDARD
END:VTIMEZONE
BEGIN:VEVENT
DTSTART;TZID=Europe/Berlin:20260325T190000
DTEND;TZID=Europe/Berlin:20260325T200000
DTSTAMP:20260423T104532
CREATED:20260212T131122Z
LAST-MODIFIED:20260216T122359Z
UID:33727-1774465200-1774468800@bfhd.de
SUMMARY:ThesisTalks- online Vortragsreihe von Master- und Bachelorarbeiten durch BfHD Mitglieder
DESCRIPTION:  \nKurze Einblicke in die jeweiligen Arbeiten sollen zeigen\, welche Fragen die Hebammenwissenschaft bewegt und welche Impulse ihre Forschung setzt. \nEin Format zum Zuhören\, Mitdenken und Nachfragen. \nAm 25. März 2025 von 19-20 Uhr \nAntonia Göggerle: \nDie Mutter-Hebamme-Beziehung und ihre Bedeutung für das Geburtserleben beim ersten Kind \n„Ziel meiner Analyse war\, herauszufinden\, wie Mütter ihre erste Geburt erlebt haben und wie sie die die Beziehung zwischen sich und der Hebamme in diesem Moment wahrgenommen haben. Es ging zusätzlich darum\, Schlüsseldimensionen zu identifizieren\, welche einen starken Zusammenhang mit dem Geburtserleben haben können. Meine Hypothese war\, dass die vertrauensvolle interpartale Beziehung den stärksten Effekt auf das Geburtserleben hat. Dies konnte so direkt nicht bestätigt werden\, aber es zeigten sich spannende Ergebnisse\, die ich Euch gerne vorstellen möchte. \n  \nKosten: 10\,00 € pro Person (für BfHD-Mitglieder frei). \n  \n\n  \nVerbindliche Anmeldung (ANGABE VON POSTADRESSE\, SOWIE TELEFONNUMMER) bis spätestens zwei Wochen vor Kursbeginn bei: Fortbildungsakademie des BfHD (FAB)\, Kasseler Straße 1a\, 60486 Frankfurt\, Telefon: 069 / 7953 4971\, Email: fortbildungsakademie@bfhd.de
URL:https://bfhd.de/fortbildung/thesistalks-online-vortragsreihe-von-master-und-bachelorarbeiten-durch-bfhd-mitglieder
CATEGORIES:FAB Fortbildungen
ATTACH;FMTTYPE=image/jpeg:https://bfhd.de/wp-content/uploads/2026/02/ThesisTalks-A.Goeggerle.jpg
END:VEVENT
END:VCALENDAR