BEGIN:VCALENDAR
VERSION:2.0
PRODID:-//BfHD - ECPv6.15.20//NONSGML v1.0//EN
CALSCALE:GREGORIAN
METHOD:PUBLISH
X-ORIGINAL-URL:https://bfhd.de
X-WR-CALDESC:Veranstaltungen für BfHD
REFRESH-INTERVAL;VALUE=DURATION:PT1H
X-Robots-Tag:noindex
X-PUBLISHED-TTL:PT1H
BEGIN:VTIMEZONE
TZID:Europe/Berlin
BEGIN:DAYLIGHT
TZOFFSETFROM:+0100
TZOFFSETTO:+0200
TZNAME:CEST
DTSTART:20250330T010000
END:DAYLIGHT
BEGIN:STANDARD
TZOFFSETFROM:+0200
TZOFFSETTO:+0100
TZNAME:CET
DTSTART:20251026T010000
END:STANDARD
BEGIN:DAYLIGHT
TZOFFSETFROM:+0100
TZOFFSETTO:+0200
TZNAME:CEST
DTSTART:20260329T010000
END:DAYLIGHT
BEGIN:STANDARD
TZOFFSETFROM:+0200
TZOFFSETTO:+0100
TZNAME:CET
DTSTART:20261025T010000
END:STANDARD
BEGIN:DAYLIGHT
TZOFFSETFROM:+0100
TZOFFSETTO:+0200
TZNAME:CEST
DTSTART:20270328T010000
END:DAYLIGHT
BEGIN:STANDARD
TZOFFSETFROM:+0200
TZOFFSETTO:+0100
TZNAME:CET
DTSTART:20271031T010000
END:STANDARD
END:VTIMEZONE
BEGIN:VEVENT
DTSTART;TZID=Europe/Berlin:20260512T190000
DTEND;TZID=Europe/Berlin:20260512T210000
DTSTAMP:20260419T170715
CREATED:20260219T100230Z
LAST-MODIFIED:20260219T100230Z
UID:33774-1778612400-1778619600@bfhd.de
SUMMARY:Fortbildungsangebot GH München: Impfungen in der Schwangerschaft und im 1. Lebensjahr
DESCRIPTION:ONLINE Vortrag \nSpätestens mit der STIKO-Empfehlung der RSV-Impfung für Neugeborene innerhalb der ersten Lebenstage ist das Thema Impfen auch bei Hebammen unausweichlich angekommen. \nIn diesem online-Vortrag wird Dr. Steffen Rabe Ihnen die Schutzimpfungen\, die von der STIKO für das erste Lebensjahr empfohlen werden\, – spoiler: mittlerweile sollen wir Kinderärzte im ersten Lebensjahr gegen 10 Krankheiten impfen – vorstellen mit dem Fokus auf ihre Wirksamkeit und Sicherheit. Ein Schwerpunkt werden mögliche individuelle Impfentscheidungen und -strategien sein\, zu denen er seit 30 Jahren in seiner kinderärztlichen Praxis Eltern berät und ärztliche Kolleginnen und Kollegen fortbildet. \nNach dem Vortrag wird es noch viel Zeit für Ihre Fragen und Diskussionsbeiträge geben. \nKosten: 20\,00 EUR \nReferent:\nDr. med. Steffen Rabe\, Arzt für Kinderheilkunde & Jugendmedizin\, Individuelle Impfberatung\, klassische Homöopathie \n  \nAnmeldung unter: \nOnline-Fortbildung für Hebammen – Impfungen in der Schwangerschaft und im 1. Lebensjahr \n \n 
URL:https://bfhd.de/fortbildung/fortbildungsangebot-gh-muenchen-impfungen-in-der-schwangerschaft-und-im-1-lebensjahr
CATEGORIES:weitere Fortbildungen
ATTACH;FMTTYPE=image/png:https://bfhd.de/wp-content/uploads/2026/02/GH-Muenchen.png
END:VEVENT
END:VCALENDAR